Package: gep2pep Version: 1.28.0 Command: /Library/Frameworks/R.framework/Resources/bin/R CMD INSTALL gep2pep StartedAt: 2025-10-13 17:50:13 -0400 (Mon, 13 Oct 2025) EndedAt: 2025-10-13 17:50:32 -0400 (Mon, 13 Oct 2025) EllapsedTime: 18.7 seconds RetCode: 0 Status: OK