Package: gep2pep Version: 1.28.0 Command: /Library/Frameworks/R.framework/Resources/bin/R CMD check --install=check:gep2pep.install-out.txt --library=/Library/Frameworks/R.framework/Resources/library --no-vignettes --timings gep2pep_1.28.0.tar.gz StartedAt: 2025-10-14 23:07:01 -0400 (Tue, 14 Oct 2025) EndedAt: 2025-10-14 23:09:41 -0400 (Tue, 14 Oct 2025) EllapsedTime: 160.3 seconds RetCode: 0 Status: OK CheckDir: gep2pep.Rcheck Warnings: 0