Package: gep2pep Version: 1.28.0 Command: /Library/Frameworks/R.framework/Resources/bin/R CMD build --keep-empty-dirs --no-resave-data gep2pep StartedAt: 2025-10-14 01:08:42 -0400 (Tue, 14 Oct 2025) EndedAt: 2025-10-14 01:09:13 -0400 (Tue, 14 Oct 2025) EllapsedTime: 31.0 seconds RetCode: 0 Status: OK PackageFile: gep2pep_1.28.0.tar.gz PackageFileSize: 121.9 KiB