Package: geomeTriD Version: 1.2.0 Command: chmod a+r geomeTriD -R && E:\biocbuild\bbs-3.21-bioc\R\bin\R.exe CMD build --keep-empty-dirs --no-resave-data geomeTriD StartedAt: 2025-08-14 19:23:26 -0400 (Thu, 14 Aug 2025) EndedAt: 2025-08-14 19:25:25 -0400 (Thu, 14 Aug 2025) EllapsedTime: 118.5 seconds RetCode: 0 Status: OK PackageFile: geomeTriD_1.2.0.tar.gz PackageFileSize: 923.3 KiB