Package: geomeTriD Version: 1.2.0 Command: rm -rf geomeTriD.buildbin-libdir && mkdir geomeTriD.buildbin-libdir && E:\biocbuild\bbs-3.21-bioc\R\bin\R.exe CMD INSTALL --build --library=geomeTriD.buildbin-libdir geomeTriD_1.2.0.tar.gz StartedAt: 2025-08-15 09:23:05 -0400 (Fri, 15 Aug 2025) EndedAt: 2025-08-15 09:24:29 -0400 (Fri, 15 Aug 2025) EllapsedTime: 84.2 seconds RetCode: 0 Status: OK PackageFile: geomeTriD_1.2.0.zip PackageFileSize: 1.382 MiB