Package: geomeTriD Version: 1.2.2 Command: /Library/Frameworks/R.framework/Resources/bin/R CMD build --keep-empty-dirs --no-resave-data geomeTriD StartedAt: 2025-10-13 19:20:33 -0400 (Mon, 13 Oct 2025) EndedAt: 2025-10-13 19:23:43 -0400 (Mon, 13 Oct 2025) EllapsedTime: 189.7 seconds RetCode: 0 Status: OK PackageFile: geomeTriD_1.2.2.tar.gz PackageFileSize: 1.084 MiB