Package: genomes Version: 3.38.0 Command: /Library/Frameworks/R.framework/Resources/bin/R CMD INSTALL genomes StartedAt: 2025-10-13 15:18:48 -0400 (Mon, 13 Oct 2025) EndedAt: 2025-10-13 15:19:06 -0400 (Mon, 13 Oct 2025) EllapsedTime: 18.1 seconds RetCode: 0 Status: OK