Package: genomeIntervals Version: 1.64.0 Command: rm -rf genomeIntervals.buildbin-libdir && mkdir genomeIntervals.buildbin-libdir && E:\biocbuild\bbs-3.21-bioc\R\bin\R.exe CMD INSTALL --build --library=genomeIntervals.buildbin-libdir genomeIntervals_1.64.0.tar.gz StartedAt: 2025-08-15 09:21:37 -0400 (Fri, 15 Aug 2025) EndedAt: 2025-08-15 09:22:38 -0400 (Fri, 15 Aug 2025) EllapsedTime: 61.0 seconds RetCode: 0 Status: OK PackageFile: genomeIntervals_1.64.0.zip PackageFileSize: 566.7 KiB