Package: genomeIntervals Version: 1.64.0 Command: /Library/Frameworks/R.framework/Resources/bin/R CMD check --install=check:genomeIntervals.install-out.txt --library=/Library/Frameworks/R.framework/Resources/library --no-vignettes --timings genomeIntervals_1.64.0.tar.gz StartedAt: 2025-04-21 19:32:14 -0400 (Mon, 21 Apr 2025) EndedAt: 2025-04-21 19:32:52 -0400 (Mon, 21 Apr 2025) EllapsedTime: 38.5 seconds RetCode: 0 Status: WARNINGS CheckDir: genomeIntervals.Rcheck Warnings: 1