Package: genomeIntervals Version: 1.64.0 Command: /Library/Frameworks/R.framework/Resources/bin/R CMD INSTALL genomeIntervals StartedAt: 2025-10-13 16:03:16 -0400 (Mon, 13 Oct 2025) EndedAt: 2025-10-13 16:03:31 -0400 (Mon, 13 Oct 2025) EllapsedTime: 15.3 seconds RetCode: 0 Status: OK