Package: genomeIntervals Version: 1.64.0 Command: rm -rf genomeIntervals.buildbin-libdir && mkdir genomeIntervals.buildbin-libdir && /Users/biocbuild/BBS/utils/build-universal.sh genomeIntervals_1.64.0.tar.gz /Library/Frameworks/R.framework/Resources/bin/R genomeIntervals.buildbin-libdir StartedAt: 2025-10-15 18:38:50 -0400 (Wed, 15 Oct 2025) EndedAt: 2025-10-15 18:39:07 -0400 (Wed, 15 Oct 2025) EllapsedTime: 16.9 seconds RetCode: 0 Status: OK PackageFile: genomeIntervals_1.64.0.tgz PackageFileSize: 682.4 KiB