Package: genomeIntervals Version: 1.64.0 Maintainer: Julien Gagneur MaintainerEmail: gagneur at in.tum.de git_url: https://git.bioconductor.org/packages/genomeIntervals git_branch: RELEASE_3_21 git_last_commit: ad522e8 git_last_commit_date: 2025-04-15 09:44:19 -0400 (Tue, 15 Apr 2025)