Package: genomation Version: 1.40.1 Command: /home/biocbuild/bbs-3.21-bioc/R/bin/R CMD INSTALL genomation StartedAt: 2025-10-15 15:28:10 -0400 (Wed, 15 Oct 2025) EndedAt: 2025-10-15 15:28:58 -0400 (Wed, 15 Oct 2025) EllapsedTime: 48.3 seconds RetCode: 0 Status: OK