Package: genomation Version: 1.40.1 Command: /Library/Frameworks/R.framework/Resources/bin/R CMD INSTALL genomation StartedAt: 2025-10-13 15:53:02 -0400 (Mon, 13 Oct 2025) EndedAt: 2025-10-13 15:54:43 -0400 (Mon, 13 Oct 2025) EllapsedTime: 101.1 seconds RetCode: 0 Status: OK