Package: genomation Version: 1.40.1 Command: /home/biocbuild/R/R/bin/R CMD check --install=check:genomation.install-out.txt --library=/home/biocbuild/R/R/site-library --no-vignettes --timings genomation_1.40.1.tar.gz StartedAt: 2025-10-14 09:27:16 -0000 (Tue, 14 Oct 2025) EndedAt: 2025-10-14 09:34:17 -0000 (Tue, 14 Oct 2025) EllapsedTime: 421.2 seconds RetCode: 0 Status: WARNINGS CheckDir: genomation.Rcheck Warnings: 1