Package: genomation Version: 1.40.1 Command: /Library/Frameworks/R.framework/Resources/bin/R CMD INSTALL genomation StartedAt: 2025-10-13 16:44:57 -0400 (Mon, 13 Oct 2025) EndedAt: 2025-10-13 16:45:53 -0400 (Mon, 13 Oct 2025) EllapsedTime: 55.7 seconds RetCode: 0 Status: OK