Package: genomation Version: 1.40.1 Command: /Library/Frameworks/R.framework/Resources/bin/R CMD build --keep-empty-dirs --no-resave-data genomation StartedAt: 2025-10-14 00:57:54 -0400 (Tue, 14 Oct 2025) EndedAt: 2025-10-14 00:59:26 -0400 (Tue, 14 Oct 2025) EllapsedTime: 92.1 seconds RetCode: 0 Status: OK PackageFile: genomation_1.40.1.tar.gz PackageFileSize: 6.006 MiB