Package: genomation Version: 1.40.1 Command: rm -rf genomation.buildbin-libdir && mkdir genomation.buildbin-libdir && /Users/biocbuild/BBS/utils/build-universal.sh genomation_1.40.1.tar.gz /Library/Frameworks/R.framework/Resources/bin/R genomation.buildbin-libdir StartedAt: 2025-10-15 18:38:12 -0400 (Wed, 15 Oct 2025) EndedAt: 2025-10-15 18:39:14 -0400 (Wed, 15 Oct 2025) EllapsedTime: 62.2 seconds RetCode: 0 Status: OK PackageFile: genomation_1.40.1.tgz PackageFileSize: 3.019 MiB