Package: genoCN Version: 1.60.0 Command: /home/biocbuild/bbs-3.21-bioc/R/bin/R CMD INSTALL genoCN StartedAt: 2025-10-05 15:02:13 -0400 (Sun, 05 Oct 2025) EndedAt: 2025-10-05 15:02:18 -0400 (Sun, 05 Oct 2025) EllapsedTime: 5.3 seconds RetCode: 1 Status: ERROR