Package: genoCN Version: 1.60.0 Command: /Library/Frameworks/R.framework/Resources/bin/R CMD INSTALL genoCN StartedAt: 2025-10-02 15:04:46 -0400 (Thu, 02 Oct 2025) EndedAt: 2025-10-02 15:04:54 -0400 (Thu, 02 Oct 2025) EllapsedTime: 8.1 seconds RetCode: 1 Status: ERROR