Package: genoCN Version: 1.60.0 Command: /Library/Frameworks/R.framework/Resources/bin/R CMD build --keep-empty-dirs --no-resave-data genoCN StartedAt: 2025-10-02 19:15:28 -0400 (Thu, 02 Oct 2025) EndedAt: 2025-10-02 19:15:31 -0400 (Thu, 02 Oct 2025) EllapsedTime: 3.2 seconds RetCode: 1 Status: ERROR PackageFile: None PackageFileSize: NA