Package: genoCN Version: 1.60.0 Command: /home/biocbuild/R/R/bin/R CMD INSTALL genoCN StartedAt: 2025-10-02 20:13:10 -0000 (Thu, 02 Oct 2025) EndedAt: 2025-10-02 20:13:18 -0000 (Thu, 02 Oct 2025) EllapsedTime: 8.1 seconds RetCode: 1 Status: ERROR