Package: geneplotter Version: 1.86.0 Command: /Library/Frameworks/R.framework/Resources/bin/R CMD INSTALL geneplotter StartedAt: 2025-09-29 15:55:13 -0400 (Mon, 29 Sep 2025) EndedAt: 2025-09-29 15:55:30 -0400 (Mon, 29 Sep 2025) EllapsedTime: 16.8 seconds RetCode: 0 Status: OK