Package: geneplast Version: 1.34.0 Command: /Library/Frameworks/R.framework/Resources/bin/R CMD check --install=check:geneplast.install-out.txt --library=/Library/Frameworks/R.framework/Resources/library --no-vignettes --timings geneplast_1.34.0.tar.gz StartedAt: 2025-10-14 04:11:43 -0400 (Tue, 14 Oct 2025) EndedAt: 2025-10-14 04:13:17 -0400 (Tue, 14 Oct 2025) EllapsedTime: 94.0 seconds RetCode: 0 Status: OK CheckDir: geneplast.Rcheck Warnings: 0