Package: geneplast Version: 1.34.0 Command: /Library/Frameworks/R.framework/Resources/bin/R CMD build --keep-empty-dirs --no-resave-data geneplast StartedAt: 2025-10-13 19:15:06 -0400 (Mon, 13 Oct 2025) EndedAt: 2025-10-13 19:16:15 -0400 (Mon, 13 Oct 2025) EllapsedTime: 68.9 seconds RetCode: 0 Status: OK PackageFile: geneplast_1.34.0.tar.gz PackageFileSize: 7.073 MiB