Package: geneplast Version: 1.34.0 Command: /home/biocbuild/R/R/bin/R CMD build --keep-empty-dirs --no-resave-data geneplast StartedAt: 2025-10-14 01:03:24 -0000 (Tue, 14 Oct 2025) EndedAt: 2025-10-14 01:04:09 -0000 (Tue, 14 Oct 2025) EllapsedTime: 45.0 seconds RetCode: 0 Status: OK PackageFile: geneplast_1.34.0.tar.gz PackageFileSize: 7.121 MiB