Package: geneplast Version: 1.34.0 Command: rm -rf geneplast.buildbin-libdir && mkdir geneplast.buildbin-libdir && /Users/biocbuild/BBS/utils/build-universal.sh geneplast_1.34.0.tar.gz /Library/Frameworks/R.framework/Resources/bin/R geneplast.buildbin-libdir StartedAt: 2025-04-21 22:36:12 -0400 (Mon, 21 Apr 2025) EndedAt: 2025-04-21 22:36:15 -0400 (Mon, 21 Apr 2025) EllapsedTime: 3.1 seconds RetCode: 0 Status: OK PackageFile: geneplast_1.34.0.tgz PackageFileSize: 4.059 MiB