Package: geneplast Version: 1.34.0 Maintainer: Mauro Castro MaintainerEmail: mauro.a.castro at gmail.com git_url: https://git.bioconductor.org/packages/geneplast git_branch: RELEASE_3_21 git_last_commit: 1198516 git_last_commit_date: 2025-04-15 11:02:37 -0400 (Tue, 15 Apr 2025)