Package: genefu Version: 2.40.0 Command: rm -rf genefu.buildbin-libdir && mkdir genefu.buildbin-libdir && /Users/biocbuild/BBS/utils/build-universal.sh genefu_2.40.0.tar.gz /Library/Frameworks/R.framework/Resources/bin/R genefu.buildbin-libdir StartedAt: 2025-04-22 00:46:43 -0400 (Tue, 22 Apr 2025) EndedAt: 2025-04-22 00:47:19 -0400 (Tue, 22 Apr 2025) EllapsedTime: 35.8 seconds RetCode: 0 Status: OK PackageFile: genefu_2.40.0.tgz PackageFileSize: 5.189 MiB