Package: geneXtendeR Version: 1.34.0 Command: /home/biocbuild/R/R/bin/R CMD check --install=check:geneXtendeR.install-out.txt --library=/home/biocbuild/R/R/site-library --no-vignettes --timings geneXtendeR_1.34.0.tar.gz StartedAt: 2025-10-14 09:27:02 -0000 (Tue, 14 Oct 2025) EndedAt: 2025-10-14 09:54:36 -0000 (Tue, 14 Oct 2025) EllapsedTime: 1655.0 seconds RetCode: 0 Status: WARNINGS CheckDir: geneXtendeR.Rcheck Warnings: 2