Package: geneRxCluster Version: 1.44.0 Command: chmod a+r geneRxCluster -R && E:\biocbuild\bbs-3.21-bioc\R\bin\R.exe CMD build --keep-empty-dirs --no-resave-data geneRxCluster StartedAt: 2025-08-14 19:18:40 -0400 (Thu, 14 Aug 2025) EndedAt: 2025-08-14 19:19:31 -0400 (Thu, 14 Aug 2025) EllapsedTime: 51.5 seconds RetCode: 0 Status: OK PackageFile: geneRxCluster_1.44.0.tar.gz PackageFileSize: 142.9 KiB