Package: geneRecommender Version: 1.80.0 Command: /home/biocbuild/bbs-3.21-bioc/R/bin/R CMD INSTALL geneRecommender StartedAt: 2025-10-15 15:12:02 -0400 (Wed, 15 Oct 2025) EndedAt: 2025-10-15 15:12:05 -0400 (Wed, 15 Oct 2025) EllapsedTime: 3.2 seconds RetCode: 0 Status: OK