Package: geneRecommender Version: 1.80.0 Command: /Library/Frameworks/R.framework/Resources/bin/R CMD check --install=check:geneRecommender.install-out.txt --library=/Library/Frameworks/R.framework/Resources/library --no-vignettes --timings geneRecommender_1.80.0.tar.gz StartedAt: 2025-04-21 19:31:18 -0400 (Mon, 21 Apr 2025) EndedAt: 2025-04-21 19:31:31 -0400 (Mon, 21 Apr 2025) EllapsedTime: 13.2 seconds RetCode: 0 Status: OK CheckDir: geneRecommender.Rcheck Warnings: 0