Package: geneRecommender Version: 1.80.0 Command: rm -rf geneRecommender.buildbin-libdir && mkdir geneRecommender.buildbin-libdir && /Users/biocbuild/BBS/utils/build-universal.sh geneRecommender_1.80.0.tar.gz /Library/Frameworks/R.framework/Resources/bin/R geneRecommender.buildbin-libdir StartedAt: 2025-04-21 22:36:12 -0400 (Mon, 21 Apr 2025) EndedAt: 2025-04-21 22:36:14 -0400 (Mon, 21 Apr 2025) EllapsedTime: 2.0 seconds RetCode: 0 Status: OK PackageFile: geneRecommender_1.80.0.tgz PackageFileSize: 263.7 KiB