Package: geneRecommender Version: 1.80.0 Command: rm -rf geneRecommender.buildbin-libdir && mkdir geneRecommender.buildbin-libdir && /Users/biocbuild/BBS/utils/build-universal.sh geneRecommender_1.80.0.tar.gz /Library/Frameworks/R.framework/Resources/bin/R geneRecommender.buildbin-libdir StartedAt: 2025-10-15 18:37:25 -0400 (Wed, 15 Oct 2025) EndedAt: 2025-10-15 18:37:31 -0400 (Wed, 15 Oct 2025) EllapsedTime: 5.6 seconds RetCode: 0 Status: OK PackageFile: geneRecommender_1.80.0.tgz PackageFileSize: 263.8 KiB