Package: genArise Version: 1.84.0 Command: /Library/Frameworks/R.framework/Resources/bin/R CMD INSTALL genArise StartedAt: 2025-09-29 15:18:57 -0400 (Mon, 29 Sep 2025) EndedAt: 2025-09-29 15:19:15 -0400 (Mon, 29 Sep 2025) EllapsedTime: 17.6 seconds RetCode: 0 Status: OK