Package: genArise Version: 1.84.0 Command: /Library/Frameworks/R.framework/Resources/bin/R CMD check --install=check:genArise.install-out.txt --library=/Library/Frameworks/R.framework/Resources/library --no-vignettes --timings genArise_1.84.0.tar.gz StartedAt: 2025-09-30 22:19:20 -0400 (Tue, 30 Sep 2025) EndedAt: 2025-09-30 22:20:15 -0400 (Tue, 30 Sep 2025) EllapsedTime: 54.6 seconds RetCode: 0 Status: WARNINGS CheckDir: genArise.Rcheck Warnings: 1