Package: gdsfmt Version: 1.44.1 Command: rm -rf gdsfmt.buildbin-libdir && mkdir gdsfmt.buildbin-libdir && E:\biocbuild\bbs-3.21-bioc\R\bin\R.exe CMD INSTALL --build --library=gdsfmt.buildbin-libdir gdsfmt_1.44.1.tar.gz StartedAt: 2025-08-15 09:20:07 -0400 (Fri, 15 Aug 2025) EndedAt: 2025-08-15 09:24:26 -0400 (Fri, 15 Aug 2025) EllapsedTime: 258.8 seconds RetCode: 0 Status: OK PackageFile: gdsfmt_1.44.1.zip PackageFileSize: 1.835 MiB