Package: gdsfmt Version: 1.44.1 Command: /Library/Frameworks/R.framework/Resources/bin/R CMD check --install=check:gdsfmt.install-out.txt --library=/Library/Frameworks/R.framework/Resources/library --no-vignettes --timings gdsfmt_1.44.1.tar.gz StartedAt: 2025-10-14 04:06:31 -0400 (Tue, 14 Oct 2025) EndedAt: 2025-10-14 04:11:43 -0400 (Tue, 14 Oct 2025) EllapsedTime: 312.1 seconds RetCode: 0 Status: OK CheckDir: gdsfmt.Rcheck Warnings: 0