Package: gdsfmt Version: 1.44.1 Command: /Library/Frameworks/R.framework/Resources/bin/R CMD build --keep-empty-dirs --no-resave-data gdsfmt StartedAt: 2025-10-13 19:12:52 -0400 (Mon, 13 Oct 2025) EndedAt: 2025-10-13 19:19:29 -0400 (Mon, 13 Oct 2025) EllapsedTime: 397.5 seconds RetCode: 0 Status: OK PackageFile: gdsfmt_1.44.1.tar.gz PackageFileSize: 2.796 MiB