Package: gdsfmt Version: 1.44.1 Command: /home/biocbuild/R/R/bin/R CMD check --install=check:gdsfmt.install-out.txt --library=/home/biocbuild/R/R/site-library --no-vignettes --timings gdsfmt_1.44.1.tar.gz StartedAt: 2025-09-26 10:46:21 -0000 (Fri, 26 Sep 2025) EndedAt: 2025-09-26 10:48:56 -0000 (Fri, 26 Sep 2025) EllapsedTime: 154.1 seconds RetCode: 0 Status: OK CheckDir: gdsfmt.Rcheck Warnings: 0