Package: gcrma Version: 2.80.0 Command: chmod a+r gcrma -R && E:\biocbuild\bbs-3.21-bioc\R\bin\R.exe CMD build --keep-empty-dirs --no-resave-data gcrma StartedAt: 2025-08-14 19:15:12 -0400 (Thu, 14 Aug 2025) EndedAt: 2025-08-14 19:15:40 -0400 (Thu, 14 Aug 2025) EllapsedTime: 27.8 seconds RetCode: 0 Status: OK PackageFile: gcrma_2.80.0.tar.gz PackageFileSize: 150.3 KiB