Package: gcrma Version: 2.80.0 Command: rm -rf gcrma.buildbin-libdir && mkdir gcrma.buildbin-libdir && /Users/biocbuild/BBS/utils/build-universal.sh gcrma_2.80.0.tar.gz /Library/Frameworks/R.framework/Resources/bin/R gcrma.buildbin-libdir StartedAt: 2025-10-15 18:35:09 -0400 (Wed, 15 Oct 2025) EndedAt: 2025-10-15 18:35:26 -0400 (Wed, 15 Oct 2025) EllapsedTime: 17.0 seconds RetCode: 0 Status: OK PackageFile: gcrma_2.80.0.tgz PackageFileSize: 389.2 KiB