Package: gcatest Version: 2.8.0 Command: /Library/Frameworks/R.framework/Resources/bin/R CMD check --install=check:gcatest.install-out.txt --library=/Library/Frameworks/R.framework/Resources/library --no-vignettes --timings gcatest_2.8.0.tar.gz StartedAt: 2025-10-14 04:03:24 -0400 (Tue, 14 Oct 2025) EndedAt: 2025-10-14 04:04:43 -0400 (Tue, 14 Oct 2025) EllapsedTime: 79.7 seconds RetCode: 0 Status: OK CheckDir: gcatest.Rcheck Warnings: 0