Package: gcatest Version: 2.8.0 Command: rm -rf gcatest.buildbin-libdir && mkdir gcatest.buildbin-libdir && /Users/biocbuild/BBS/utils/build-universal.sh gcatest_2.8.0.tar.gz /Library/Frameworks/R.framework/Resources/bin/R gcatest.buildbin-libdir StartedAt: 2025-10-14 13:30:14 -0400 (Tue, 14 Oct 2025) EndedAt: 2025-10-14 13:30:25 -0400 (Tue, 14 Oct 2025) EllapsedTime: 11.8 seconds RetCode: 0 Status: OK PackageFile: gcatest_2.8.0.tgz PackageFileSize: 3.548 MiB