Package: gcapc Version: 1.32.0 Command: E:\biocbuild\bbs-3.21-bioc\R\bin\R.exe CMD check --no-multiarch --install=check:gcapc.install-out.txt --library=E:\biocbuild\bbs-3.21-bioc\R\library --no-vignettes --timings gcapc_1.32.0.tar.gz StartedAt: 2025-08-15 02:24:02 -0400 (Fri, 15 Aug 2025) EndedAt: 2025-08-15 02:32:37 -0400 (Fri, 15 Aug 2025) EllapsedTime: 515.0 seconds RetCode: 0 Status: OK CheckDir: gcapc.Rcheck Warnings: 0