Package: gcapc Version: 1.32.0 Command: /home/biocbuild/bbs-3.21-bioc/R/bin/R CMD INSTALL gcapc StartedAt: 2025-10-15 15:27:09 -0400 (Wed, 15 Oct 2025) EndedAt: 2025-10-15 15:27:41 -0400 (Wed, 15 Oct 2025) EllapsedTime: 31.5 seconds RetCode: 0 Status: OK