Package: gcapc Version: 1.32.0 Command: /home/biocbuild/bbs-3.21-bioc/R/bin/R CMD check --install=check:gcapc.install-out.txt --library=/home/biocbuild/bbs-3.21-bioc/R/site-library --timings gcapc_1.32.0.tar.gz StartedAt: 2025-10-15 23:23:48 -0400 (Wed, 15 Oct 2025) EndedAt: 2025-10-15 23:33:03 -0400 (Wed, 15 Oct 2025) EllapsedTime: 554.8 seconds RetCode: 0 Status: OK CheckDir: gcapc.Rcheck Warnings: 0