Package: gcapc Version: 1.32.0 Command: /Library/Frameworks/R.framework/Resources/bin/R CMD INSTALL gcapc StartedAt: 2025-10-13 15:51:53 -0400 (Mon, 13 Oct 2025) EndedAt: 2025-10-13 15:52:58 -0400 (Mon, 13 Oct 2025) EllapsedTime: 65.0 seconds RetCode: 0 Status: OK