Package: gcapc Version: 1.32.0 Command: rm -rf gcapc.buildbin-libdir && mkdir gcapc.buildbin-libdir && /Users/biocbuild/BBS/utils/build-universal.sh gcapc_1.32.0.tar.gz /Library/Frameworks/R.framework/Resources/bin/R gcapc.buildbin-libdir StartedAt: 2025-10-14 13:30:14 -0400 (Tue, 14 Oct 2025) EndedAt: 2025-10-14 13:32:04 -0400 (Tue, 14 Oct 2025) EllapsedTime: 110.0 seconds RetCode: 0 Status: OK PackageFile: gcapc_1.32.0.tgz PackageFileSize: 3.869 MiB